Workbook
Name _2007_08_Urgent_Bulletin_No._2__Attachment_No._1: 'General Instructions'!#REF!
Name _2007_08_Urgent_Bulletin_No._2__Attachment_No._1: 'Specific Instructions'!#REF!
Name _2007_08_Urgent_Bulletin_No._2__Attachment_No._1_1: 'General Instructions'!#REF!
Name _2007_08_Urgent_Bulletin_No._2__Attachment_No._1_1: 'Specific Instructions'!#REF!
Name _2007_08_Urgent_Bulletin_No._2__Attachment_No._1_2: 'General Instructions'!#REF!
Name _2007_08_Urgent_Bulletin_No._2__Attachment_No._1_2: 'Specific Instructions'!#REF!
Name _2007_08_Urgent_Bulletin_No._2__Attachment_No._1_3: 'General Instructions'!$D$12:$D$92
Name _2007_08_Urgent_Bulletin_No._2__Attachment_No._1_3: 'Specific Instructions'!#REF!
Name _2007_08_Urgent_Bulletin_No._2__Attachment_No._2: 'Specific Instructions'!#REF!
Name _2007_08_Urgent_Bulletin_No._2__Attachment_No._2_1: 'Specific Instructions'!$B$1:$B$95
Name Instructions_Document_for_AB1200_Public_Disclosure: 'General Instructions'!#REF!
Name Instructions_Document_for_AB1200_Public_Disclosure: 'Specific Instructions'!#REF!
Name UB_2__attachment_no.1__2007_08: 'General Instructions'!#REF!
Name UB_2__attachment_no.1__2007_08: 'Specific Instructions'!#REF!
Name UB_2__attachment_no.1__2007_08_1: 'General Instructions'!#REF!
Name UB_2__attachment_no.1__2007_08_1: 'Specific Instructions'!#REF!
Name UB_2__attachment_no.1__2007_08_2: 'General Instructions'!#REF!
Name UB_2__attachment_no.1__2007_08_2: 'Specific Instructions'!#REF!
Name UB_2__attachment_no.1__2007_08_3: 'General Instructions'!#REF!
Name UB_2__attachment_no.1__2007_08_3: 'Specific Instructions'!#REF!

Sheet General Instructions
A1: General Instructions for Completion of
A2: Public Disclosure of Proposed Collective Bargaining Agreement
A4: • | B4: Pursuant to GC 3540.2 (a), districts with qualified or negative certifications are required to submit a disclosure. In addition, pursuant to GC 3540.2 (d) a school district shall provide the county superintendent of schools, upon request, with all relevant information to provide an understanding of the financial impact of any final collective bargaining agreement reached pursuant to GC Section 3543.2 and 3547.5. All proposed bargaining agreements, including zero compensation, freezes, rollbacks, furlough days, stipends, benefit modifications and re-openers, must be disclosed using the entire workbook.
A10: • | B10: Please submit this form to the County Superintendent of Schools and make it available to the public for review at least ten (10) working days prior to the date on which the Governing Board will take action on the proposed bargaining agreement.
A13: • | B13: Attach a copy of the proposed bargaining agreement to each disclosure form.
A15: • | B15: A separate disclosure form should be completed for each bargaining unit. If two or more units are settled concurrently, see the instructions at the bottom of the next page.
A18: • | B18: Figures in the “Annual Cost Prior to Proposed Agreement” column on page 1 of the disclosure form should reflect the current fiscal year cost data before the agreement, even if the estimated salary changes were included in the adopted budget.
A21: • | B21: In the “Year 1” column on page 1 of the disclosure form, show the incremental change resulting from the proposed agreement for the fiscal year in which the contract is first effective. If the agreement includes a retroactive salary change for a prior year and the impact of the change is in the current fiscal year, show the total change of both the prior and current year in the "Year 1" column. Only fill in the "Year 2" or "Year 3" columns if the proposed agreement is a multiyear contract with changes in years subsequent to the current year.
A27: • | B27: To ensure full disclosure, such as for agreements where salary changes may not be effective for a full year, explain the terms of the agreement beginning on the top of page 2 of the disclosure form.
A30: • | B30: Use Section G on pages 4a through 4c for the General Fund and the four columns designated to show “Latest Board Approved Budget Before Settlement,” “Adjustments as a Result of Settlement,” “Other Revisions,” and “Total Revised Budget” for the fiscal year being settled.
A34: • | B34: Pages 4d through 4h of Section G are to be used if the source of funding for an agreement includes funds other than the General Fund.
A37: • | B37: Proposed agreements must be disclosed any time a contract is reopened. This is especially true when multiyear agreements are formula-driven, as in the case when they are tied to projected cost-of-living adjustments in the subsequent years. Once an actual percentage and dollar change is determined, the resulting salary and benefit cost impact must be disclosed even though it may have been budgeted.
A42: • | B42: Certification No. 1 (Section J on Page 8) must be signed by the District Superintendent and Chief Business Official (CBO) at the time of public disclosure. "I hereby certify" or "I am unable to certify" must be checked by both signers.
B45: • | C45: The Superintendent’s and CBO’s certifications are meant to be independent of one another.
B47: • | C47: The certifications serve as additional information provided to the board regarding the affordability of the proposed agreement before the board takes action on the agreement.
B50: • | C50: The certifications should be accompanied by:
C52: • | D52: The fiscal planning assumptions that are used in making the certification.
C54: • | D54: Any qualifying comments made by the Superintendent and/or CBO that speak to the agreement’s affordability within the context of the district’s entire budget.
B57: • | C57: The absence of a certification signature or a check on the "I am unable to certify" line does not prevent a board from taking action on an agreement. However, if a board approves an agreement missing a certification signature or with the "I am unable to certify" checked, it is still expected to adopt the budget revisions needed to pay for the agreement.
B61: • | C61: The Los Angeles County Office of Education (County Office) will process any payroll adjustments reflected in an agreement, even if the Superintendent and/or CBO do not provide certifying signatures. However, the absence of a certification signature or if the "I am unable to certify" box is checked serves as an alert to the County Office to carefully analyze and review the district’s ability to fund the agreement.
B66: • | C66: Within 45 days of adopting a collective bargaining agreement, or prior to, or with its next interim report submission (or budget submission if the agreement is adopted after the submittal of the district's Second Interim Report), whichever comes first, any budget revisions to the school district's current year budget that are necessary to fulfill the terms of the agreement must be forwarded to the County Office. If a school district does not adopt all of the revisions to its budget needed in the current fiscal year to meet the costs of a collective bargaining agreement, the County Superintendent of Schools is required to issue a qualified or negative certification for the district’s next interim report (Education Code Section 42142).
B73: • | C73: Any concerns regarding the affordability of the agreement in subsequent years should be listed on page 8a following the certification.
B76: • | C76: The entire collective bargaining disclosure document, including multiyear projections, the Superintendent/CBO certifications and assumptions, and board actions needed in current and subsequent years, must be reviewed by the board prior to board action on the agreement.
B80: • | C80: Certification No. 2 (Section K on Page 9) must be signed by the district Superintendent at the time of public disclosure and submitted with the completed disclosure forms to the County Office.
B83: • | C83: After the Governing Board takes action on the proposed agreement, Certification No. 2 must be signed by the Board President or Clerk and re-submitted to the County Office. In the event that a Governing Board modifies a proposed agreement as it was originally disclosed and takes action to approve the agreement, a revised disclosure should also be resubmitted with any revisions made to the agreement clearly indicated.
B88: • | C88: The manner in which the public is made aware of the proposed agreement and its availability for public inspection and review is at the discretion of the district. Districts may select any or a combination of various methods available for communicating to the public - i.e., notice in newspaper, posted notices, letters to parents, PTA newsletters, etc. Notification, however, must include the public at large and should not be limited to district parents only.
B93: Multiple Bargaining Unit Agreements Settled Concurrently
B94: • | C94: Complete pages 1 through 3 for each bargaining unit agreement.
B95: • | C95: Create a new "combined" workbook: On page 1, type the district name and "Combined" following name of bargaining unit.
B96: • | C96: Skip to page 4 and complete the remainder of the workbook showing the impact of all agreements on the district's budget.
B97: • | C97: Complete the combined workbook page 8 (Certification No. 1) with Superintendent and CBO signatures.
B98: • | C98: Attach pages 1 through 3 and copies of signed MOUs or Tentative Agreements for each bargaining unit.
B99: • | C99: Submit to the County Office at least 10 working days prior to the Governing Board approval.
B100: • | C100: Complete the combined workbook page 9 (Certification No. 2) following Board ratification.
B101: • | C101: Submit Certification No. 2 to the County Office.

Sheet Specific Instructions
A1: Specific Instructions for Completion of
A2: Public Disclosure of Proposed Collective Bargaining Agreement
A4: Data can only be manually entered into yellow-highlighted cells of the workbook. White cells are locked, and typically contain formulas that automatically calculate totals, variances, and percentages.
A7: Section A, Page 1: Proposed Change in Compensation
B9: The total cost for all funds, not just the General Fund, is to be reported on page 1. Data in Year 2 and 3 columns is necessary only for multiyear and overlapping fiscal year agreements.
A12: Line 1 | B12: Salary Schedule, including step and column - Report only the cost of salaries, excluding statutory and health/welfare benefits.
B15: Annual Cost Prior to Proposed Agreement - Enter the total cost of salaries for the bargaining unit prior to the proposed agreement.
B18: Year 1 - Enter the amount of the proposed salary schedule change.
A20: Line 2 | B20: Other Compensation - Report only the cost of salaries associated with the cost of other compensation, excluding statutory and health/welfare benefits.
B23: Annual Cost Prior to Proposed Agreement - Enter the total cost of other compensation for the bargaining unit prior to the proposed agreement.
B26: Year 1 - Enter the amount of the proposed change in other compensation.
B28: Description - Indicate specific changes in other compensation for each affected year. For example: One percent off-schedule or $200/employee.
A31: Line 3 | B31: Statutory Benefits - Report only the cost of statutory benefits, excluding salaries and health/welfare benefits.
B33: Annual Cost Prior to Proposed Agreement - Enter the total cost of statutory benefits of the bargaining unit prior to the proposed agreement.
B36: Year 1 - Enter the amount of the proposed change in statutory benefits resulting from changes in salaries reported on Lines 1 and 2.
A39: Line 4 | B39: Health/Welfare Plans - Report only the cost of health/welfare benefits, excluding the cost of salaries and statutory benefits.
B42: Annual Cost Prior to Proposed Agreement - Enter the total cost of health/welfare benefits of the bargaining unit prior to the proposed agreement.
B45: Year 1 - Enter the amount of the proposed change in health/welfare benefits for the affected bargaining unit.
A47: Line 5 | B47: Total Compensation - Automatically calculated.
A49: Line 6 | B49: Total Number of Represented Employees - Enter the full-time equivalent (FTE) employees for the affected bargaining unit.
A52: Line 7 | B52: Total Compensation Average Cost per Employee - Automatically calculated.
A54: Section A (continued) through Section F, Pages 2 and 3: Answer bargaining unit-specific questions.
A60: Section G, Pages 4a through 4i: Impact of Proposed Agreement on Current Year Operating Budget,
A61: for General Adult Education, Child Development, Cafeteria and Other Funds
A63: • | B63: If other bargaining unit agreements are pending or recently settled, then Column 3 can be used to show the revisions necessary for the other units. Column 4 should reflect the current budget, as adjusted for all agreements.
A66: • | B66: Data entered on pages 4a and 4b, “Unrestricted” and “Restricted General Fund,” will automatically populate page 4c, “Combined General Fund,” as well as the first column (current year) of Section H, pages 5a and 5b.
A69: • | B69: On Page 4i, give explanations for entries recorded in Column 3, “Other Revisions,” on pages 4a through 4h.
A71: Section H, Pages 5a through 5c: Impact of Proposed Agreement on Subsequent Years
A73: • | B73: Unrestricted and Restricted General Fund data for subsequent fiscal years must be manually entered on pages 5a and 5b, respectively. The combined General Fund totals are automatically calculated on page 5c.
A76: Section I, Pages 6 and 7: Impact of Proposed Agreement on Unrestricted Reserves
A78: • | B78: If "Other Adjustments" expenditure amounts were entered in the multiyear projection (pages 5a and 5b) for the two subsequent years, then an explanation must be provided on page 7, question 7.
A81: • | B81: Enter data in the yellow-highlighted cells as appropriate. Enter your district's reserve level requirement on line 1d. Whether a district meets required reserve levels is automatically determined and displayed on page 6, line 3. Any fiscal year with a “No” result in line 3 requires a response in line 4.
A85: • | B85: Any total compensation variance requires an explanation on page 7, question 5.
A87: • | B87: The causes of and plans to address deficit spending, especially for any deficit resulting from or increased by the agreement, must be addressed on page 7, question 6.
A90: Section J, Pages 8 and 8a: Certification No. 1
A92: • | B92: Enter data in yellow-highlighted cells on page 8 as appropriate. Once data is entered, the form should be printed, "I am able to certify" or "I am unable to certify" must be checked and signed by the district Superintendent and Chief Business Official. Use page 8a to list the budget assumptions and address affordability in subsequent years. Submit the signed certification and the completed Public Disclosure to the County Office.
A97: Section K, Page 9: Certification No. 2
A99: • | B99: Enter data in yellow-highlighted cells on page 9 as appropriate. Once data is entered, the form should be printed, signed and dated by the district Superintendent. The completed disclosure is ready for posting and submission to the County Office. After the the Governing Board meeting, the Board President or Clerk of the Board (district Superintendent) must sign and date Certification No. 2. and submit to the County Office.

Sheet Page 1, Agreement
A1: PUBLIC DISCLOSURE OF PROPOSED COLLECTIVE BARGAINING AGREEMENT | J1: Specific Instructions for Completion of
A2: in accordance with AB 1200 (Chapter 1213/Statutes 1991), AB 2756 (Chapter 52/Statutes 2004), GC 3547.5 | J2: Public Disclosure of Proposed Collective Bargaining Agreement
A4: Name of School District:
A5: Name of Bargaining Unit:
A6: Certificated, Classified, Other:
A8: The proposed agreement covers the period beginning: | F8: and ending:
E9: (date) | G9: (date)
A10: The Governing Board will act upon this agreement on:
E11: (date)
A12: Note: This form, along with a copy of the proposed agreement, must be submitted to the County Office at least ten (10) working days prior to the date the Governing Board will take action.
A14: A. Proposed Change in Compensation | J14: Section A, Page 1: Proposed Change in Compensation
E15: Fiscal Impact of Proposed Agreement (Complete Years 2 and 3 for multiyear and overlapping agreements only)
A16: Bargaining Unit Compensation | D16: Fiscal Impact of Proposed Agreement
A18: All Funds - Combined | C18: Annual Cost Prior to Proposed Settlement | E18: Year 1 Increase/(Decrease) | F18: Year 2 Increase/(Decrease) | G18: Year 3 Increase/(Decrease)
E19: 2023-24 | F19: =VLOOKUP($E19,$E$98:$G$114,2) -> 2024-25 | G19: =VLOOKUP($E19,$E$98:$H$114,3) -> 2025-26
A20: 1. | B20: Salary Schedule
B21: Including Step and Column
E22: =IF(C20=0,0,E20/C20) -> 0 | F22: =IF(C20=0,0,F20/SUM(C20+E20)) -> 0 | G22: =IF(C20=0,0,G20/SUM(C20+E20+F20)) -> 0
A23: 2. | B23: Other Compensation
B24: Stipends, Bonuses, Longevity, Overtime, Differential, Callback or Standby Pay, etc.
E25: =IF(C23>0,E23/C23,IF(C23=0," ")) | F25: =IF(C23>0,F23/SUM(C23+E23),IF(C23=0," ")) | G25: =IF(C23>0,G23/SUM(C23+E23+F23),IF(C23=0," "))
B26: Description of Other Compensation
A27: 3. | B27: Statutory Benefits - STRS, PERS, FICA, WC, UI, Medicare, etc.
E28: =IF(C27=0,0,E27/C27) -> 0 | F28: =IF(C27=0,0,F27/SUM(C27+E27)) -> 0 | G28: =IF(C27=0,0,G27/SUM(C27+E27+F27)) -> 0
A29: 4. | B29: Health/Welfare Plans
E30: =IF(C29>0,E29/C29,IF(C29=0," ")) | F30: =IF(C29>0,F29/SUM(C29+E29),IF(C29=0," ")) | G30: =IF(C29>0,G29/SUM(C29+E29+F29),IF(C29=0," "))
A31: 5. | B31: Total Bargaining Unit Compensation Add Items 1 through 4 to equal 5 | C31: =C20+C23+C27+C29 -> 0 | E31: =E20+E23+E27+E29 -> 0 | F31: =F20+F23+F27+F29 -> 0 | G31: =G20+G23+G27+G29 -> 0
E32: =IF(C31=0,0,E31/C31) -> 0 | F32: =IF(C31=0,0,F31/SUM(C31+E31)) -> 0 | G32: =IF(C31=0,0,G31/SUM(C31+E31+F31)) -> 0
A33: 6. | B33: Total Number of Bargaining Unit Employees (Use FTEs if appropriate)
A34: 7. | B34: Total Compensation Average Cost per Bargaining Unit Employee | C34: =IF(C33=0,0,C31/C33) -> 0 | E34: =IF(C33=0,0,E31/C33) -> 0 | F34: =IF(C33=0,0,F31/C33) -> 0 | G34: =IF(C33=0,0,G31/C33) -> 0
E35: =IF(C34=0,0,E34/C34) -> 0 | F35: =IF(C34=0,0,F34/SUM(C34+E34)) -> 0 | G35: =IF(C34=0,0,G34/SUM(C34+E34+F34)) -> 0
E96: Year 1 Increase/(Decrease) | F96: Year 2 Increase/(Decrease) | G96: Year 3 Increase/(Decrease)
E98: 2013-14 | F98: 2014-15 | G98: 2015-16
E99: 2014-15 | F99: 2015-16 | G99: 2016-17
E100: 2015-16 | F100: 2016-17 | G100: 2017-18
E101: 2016-17 | F101: 2017-18 | G101: 2018-19
E102: 2017-18 | F102: 2018-19 | G102: 2019-20
E103: 2018-19 | F103: 2019-20 | G103: 2020-21
E104: 2019-20 | F104: 2020-21 | G104: 2021-22
E105: 2020-21 | F105: 2021-22 | G105: 2022-23
...

Sheet Page 2, Explanations
B1: =IF('Page 1, Agreement'!C4=0," ",'Page 1, Agreement'!C4)
B2: =IF('Page 1, Agreement'!C5=0," ",'Page 1, Agreement'!C5)
B4: 8. What was the negotiated percentage change? For example, if the change in "Year 1" was for less than a full
B5: year, what is the annualized percentage of that change for "Year 1"?
B9: 9. Were any additional steps, columns, or ranges added to the salary schedules? (If yes, please explain.)
B13: 10. Please include comments and explanations as necessary. (If more room is necessary, please attach an
B14: additional sheet.)
B18: 11. Does this bargaining unit have a negotiated cap for Health and Welfare | K18: Yes | M18: No
B19: benefits?
B20: If yes, please describe the cap amount.
A24: ="B." -> B. | B24: Proposed negotiated changes in noncompensation items (i.e., class size adjustments, staff development days, teacher prep time, classified staffing ratios, etc.)
A28: ="C." -> C. | B28: What are the specific impacts (positive or negative) on instructional and support programs to accommodate the settlement? Include the impact of changes such as staff reductions or increases, program reductions or increases, elimination or expansion of other services or programs (i.e., counselors, librarians, custodial staff, etc.)

Sheet Page 3, Explanations
B1: =IF('Page 1, Agreement'!C4=0," ",'Page 1, Agreement'!C4)
B2: =IF('Page 1, Agreement'!C5=0," ",'Page 1, Agreement'!C5)
A4: ="D." -> D. | B4: What contingency language is included in the proposed agreement (e.g., reopeners, etc.)?
A8: E. | B8: Identify other major provisions that do not directly affect the district's costs, such as binding arbitrations, grievance procedures, etc.
A12: F. | B12: Source of Funding for Proposed Agreement:
B13: 1. Current Year
B17: 2. If this is a single year agreement, how will the ongoing cost of the proposed agreement be funded in
B18: subsequent years?
B22: 3. If this is a multiyear agreement, what is the source of funding, including assumptions used, to fund these
B23: obligations in subsequent years? (Remember to include compounding effects in meeting obligations.)

Sheet Page 4a, Impact, Unrestr G.F.
A1: =IF('Page 1, Agreement'!C4=0," ",'Page 1, Agreement'!C4)
A3: G. IMPACT OF PROPOSED AGREEMENT ON CURRENT YEAR OPERATING BUDGET | H3: Section G, Pages 4a through 4i: Impact of Proposed Agreement on Current-Year Operating Budget
H4: for General, Adult Education, Child Development, Cafeteria and Other Funds
C5: Unrestricted General Fund
A6: Bargaining Unit: | C6: =IF('Page 1, Agreement'!C5=0," ",'Page 1, Agreement'!C5)
C7: Column 1 | D7: Column 2 | E7: Column 3 | F7: Column 4
B8: Object Code | C8: Latest Board-Approved Budget Before Settlement (As of -------) | D8: Adjustments as a Result of Settlement (compensation) | E8: Other Revisions (agreement support and/or other unit agreement) Explain on Page 4i | F8: Total Revised Budget (Columns 1+2+3)
A9: REVENUES
A10: LCFF Revenue | B10: 8010-8099 | E10: 0 | F10: =C10+E10 -> 0
A11: Federal Revenue | B11: 8100-8299 | E11: 0 | F11: =C11+E11 -> 0
A12: Other State Revenue | B12: 8300-8599 | E12: 0 | F12: =C12+E12 -> 0
A13: Other Local Revenue | B13: 8600-8799 | E13: 0 | F13: =C13+E13 -> 0
A14: TOTAL REVENUES | C14: =SUM(C10:C13) -> 0 | E14: =SUM(E10:E13) -> 0 | F14: =SUM(F10:F13) -> 0
A15: EXPENDITURES
A16: Certificated Salaries | B16: 1000-1999 | F16: =C16+D16+E16 -> 0
A17: Classified Salaries | B17: 2000-2999 | F17: =C17+D17+E17 -> 0
A18: Employee Benefits | B18: 3000-3999 | F18: =C18+D18+E18 -> 0
A19: Books and Supplies | B19: 4000-4999 | E19: 0 | F19: =C19+E19 -> 0
A20: Services and Other Operating Expenditures | B20: 5000-5999 | E20: 0 | F20: =C20+E20 -> 0
A21: Capital Outlay | B21: 6000-6999 | E21: 0 | F21: =C21+E21 -> 0
A22: Other Outgo (excluding Indirect Costs) | B22: 7100-7299 7400-7499 | E22: 0 | F22: =C22+E22 -> 0
A23: Transfers of Indirect Costs | B23: 7300-7399 | E23: 0 | F23: =C23+E23 -> 0
A24: TOTAL EXPENDITURES | C24: =SUM(C16:C23) -> 0 | D24: =SUM(D16:D18) -> 0 | E24: =SUM(E16:E23) -> 0 | F24: =SUM(F16:F23) -> 0
A25: OTHER FINANCING SOURCES/USES
A26: Transfers In and Other Sources | B26: 8900-8979 | D26: 0 | E26: 0 | F26: =C26+D26+E26 -> 0
A27: Transfers Out and Other Uses | B27: 7600-7699 | D27: 0 | E27: 0 | F27: =C27+D27+E27 -> 0
A28: Contributions | B28: 8980-8999 | D28: 0 | E28: 0 | F28: =C28+D28+E28 -> 0
A29: OPERATING SURPLUS (DEFICIT)* | C29: =C14-C24+C26-C27+C28 -> 0 | D29: =D14-D24+D26-D27+D28 -> 0 | E29: =E14-E24+E26-E27+E28 -> 0 | F29: =F14-F24+F26-F27+F28 -> 0
A31: BEGINNING FUND BALANCE | B31: 9791 | F31: =C31 -> 0
A32: Audit Adjustments/Other Restatements | B32: 9793/9795 | F32: =C32 -> 0
A33: ENDING FUND BALANCE | C33: =C29+C31+C32 -> 0 | D33: =D29 -> 0 | E33: =E29 -> 0 | F33: =F29+F31+F32 -> 0
A34: COMPONENTS OF ENDING FUND BALANCE:
A35: Nonspendable | B35: 9711-9719 | D35: 0 | E35: 0 | F35: =C35+D35+E35 -> 0
A36: Restricted | B36: 9740
A37: Committed | B37: 9750-9760 | D37: 0 | E37: 0 | F37: =C37+D37+E37 -> 0
A38: Assigned | B38: 9780 | D38: 0 | E38: 0 | F38: =C38+D38+E38 -> 0
A39: Reserve for Economic Uncertainties | B39: 9789 | D39: 0 | E39: 0 | F39: =C39+D39+E39 -> 0
A40: Unassigned/Unappropriated Amount | B40: 9790 | C40: =C33-SUM(C35:C39) -> 0 | D40: =D33-SUM(D35:D39) -> 0 | E40: =E33-SUM(E35:E39) -> 0 | F40: =F33-SUM(F35:F39) -> 0
A41: *Net Increase (Decrease) in Fund Balance | C41: NOTE: 9790 amounts in Columns 1 and 4 must be positive

Sheet Page 4b, Impact, Restr G.F.
A1: =IF('Page 1, Agreement'!C4=0," ",'Page 1, Agreement'!C4)
A3: G. IMPACT OF PROPOSED AGREEMENT ON CURRENT YEAR OPERATING BUDGET | H3: Section G, Pages 4a through 4i: Impact of Proposed Agreement on Current-Year Operating Budget
H4: for General, Adult Education, Child Development, Cafeteria and Other Funds
C5: Restricted General Fund
A6: Bargaining Unit: | C6: =IF('Page 1, Agreement'!C5=0," ",'Page 1, Agreement'!C5)
C7: Column 1 | D7: Column 2 | E7: Column 3 | F7: Column 4
B8: Object Code | C8: ='Page 4a, Impact, Unrestr G.F.'!C8 -> Latest Board-Approved Budget Before Settlement (As of -------) | D8: Adjustments as a Result of Settlement (compensation) | E8: Other Revisions (agreement support and/or other unit agreement) Explain on Page 4i | F8: Total Revised Budget (Columns 1+2+3)
A9: REVENUES
A10: LCFF Revenue | B10: 8010-8099 | C10: 0 | E10: 0 | F10: =C10+E10 -> 0
A11: Federal Revenue | B11: 8100-8299 | C11: 0 | E11: 0 | F11: =C11+E11 -> 0
A12: Other State Revenue | B12: 8300-8599 | C12: 0 | E12: 0 | F12: =C12+E12 -> 0
A13: Other Local Revenue | B13: 8600-8799 | C13: 0 | E13: 0 | F13: =C13+E13 -> 0
A14: TOTAL REVENUES | C14: =SUM(C10:C13) -> 0 | E14: =SUM(E10:E13) -> 0 | F14: =SUM(F10:F13) -> 0
A15: EXPENDITURES
A16: Certificated Salaries | B16: 1000-1999 | D16: 0 | E16: 0 | F16: =C16+D16+E16 -> 0
A17: Classified Salaries | B17: 2000-2999 | D17: 0 | E17: 0 | F17: =C17+D17+E17 -> 0
A18: Employee Benefits | B18: 3000-3999 | D18: 0 | E18: 0 | F18: =C18+D18+E18 -> 0
A19: Books and Supplies | B19: 4000-4999 | E19: 0 | F19: =C19+E19 -> 0
A20: Services and Other Operating Expenditures | B20: 5000-5999 | E20: 0 | F20: =C20+E20 -> 0
A21: Capital Outlay | B21: 6000-6999 | C21: 0 | E21: 0 | F21: =C21+E21 -> 0
A22: Other Outgo (excluding Indirect Costs) | B22: 7100-7299 7400-7499 | C22: 0 | E22: 0 | F22: =C22+E22 -> 0
A23: Transfers of Indirect Costs | B23: 7300-7399 | C23: 0 | E23: 0 | F23: =C23+E23 -> 0
A24: TOTAL EXPENDITURES | C24: =SUM(C16:C23) -> 0 | D24: =SUM(D16:D18) -> 0 | E24: =SUM(E16:E23) -> 0 | F24: =SUM(F16:F23) -> 0
A25: OTHER FINANCING SOURCES/USES
A26: Transfers In and Other Sources | B26: 8900-8979 | C26: 0 | D26: 0 | E26: 0 | F26: =C26+D26+E26 -> 0
A27: Transfers Out and Other Uses | B27: 7600-7699 | C27: 0 | D27: 0 | E27: 0 | F27: =C27+D27+E27 -> 0
A28: Contributions | B28: 8980-8999 | C28: 0 | D28: 0 | E28: 0 | F28: =C28+D28+E28 -> 0
A29: OPERATING SURPLUS (DEFICIT)* | C29: =C14-C24+C26-C27+C28 -> 0 | D29: =D14-D24+D26-D27+D28 -> 0 | E29: =E14-E24+E26-E27+E28 -> 0 | F29: =F14-F24+F26-F27+F28 -> 0
A31: BEGINNING FUND BALANCE | B31: 9791 | C31: 0 | F31: =C31 -> 0
A32: Audit Adjustments/Other Restatements | B32: 9793/9795 | C32: 0 | F32: =C32 -> 0
A33: ENDING FUND BALANCE | C33: =C29+C31+C32 -> 0 | D33: =D29 -> 0 | E33: =E29 -> 0 | F33: =F29+F31+F32 -> 0
A34: COMPONENTS OF ENDING FUND BALANCE:
A35: Nonspendable | B35: 9711-9719 | C35: 0 | D35: 0 | E35: 0 | F35: =C35+D35+E35 -> 0
A36: Restricted | B36: 9740 | C36: 0 | D36: 0 | E36: 0 | F36: =C36+D36+E36 -> 0
A37: Committed | B37: 9750-9760
A38: Assigned Amounts | B38: 9780
A39: Reserve for Economic Uncertainties | B39: 9789 | D39: 0 | E39: 0 | F39: =C39+D39+E39 -> 0
A40: Unassigned/Unappropriated Amount | B40: 9790 | C40: =C33-SUM(C35:C39) -> 0 | D40: =D33-SUM(D35:D39) -> 0 | E40: =E33-SUM(E35:E39) -> 0 | F40: =F33-SUM(F35:F39) -> 0
A41: *Net Increase (Decrease) in Fund Balance | C41: NOTE: 9790 amounts in Columns 1 and 4 must be positive

Sheet Page 4c, Impact, Combined G.F.
A1: =IF('Page 1, Agreement'!C4=0," ",'Page 1, Agreement'!C4)
A3: G. IMPACT OF PROPOSED AGREEMENT ON CURRENT YEAR OPERATING BUDGET
C5: Combined General Fund
A6: Bargaining Unit: | C6: =IF('Page 1, Agreement'!C5=0," ",'Page 1, Agreement'!C5)
C7: Column 1 | D7: Column 2 | E7: Column 3 | F7: Column 4
B8: Object Code | C8: ='Page 4a, Impact, Unrestr G.F.'!C8 -> Latest Board-Approved Budget Before Settlement (As of -------) | D8: Adjustments as a Result of Settlement (compensation) | E8: Other Revisions (agreement support and/or other unit agreement) Explain on Page 4i | F8: Total Revised Budget (Columns 1+2+3)
A9: REVENUES
A10: LCFF Revenue | B10: 8010-8099 | C10: ='Page 4a, Impact, Unrestr G.F.'!C10+'Page 4b, Impact, Restr G.F.'!C10 -> 0 | E10: ='Page 4a, Impact, Unrestr G.F.'!E10+'Page 4b, Impact, Restr G.F.'!E10 -> 0 | F10: =C10+E10 -> 0
A11: Federal Revenue | B11: 8100-8299 | C11: ='Page 4a, Impact, Unrestr G.F.'!C11+'Page 4b, Impact, Restr G.F.'!C11 -> 0 | E11: ='Page 4a, Impact, Unrestr G.F.'!E11+'Page 4b, Impact, Restr G.F.'!E11 -> 0 | F11: =C11+E11 -> 0
A12: Other State Revenue | B12: 8300-8599 | C12: ='Page 4a, Impact, Unrestr G.F.'!C12+'Page 4b, Impact, Restr G.F.'!C12 -> 0 | E12: ='Page 4a, Impact, Unrestr G.F.'!E12+'Page 4b, Impact, Restr G.F.'!E12 -> 0 | F12: =C12+E12 -> 0
A13: Other Local Revenue | B13: 8600-8799 | C13: ='Page 4a, Impact, Unrestr G.F.'!C13+'Page 4b, Impact, Restr G.F.'!C13 -> 0 | E13: ='Page 4a, Impact, Unrestr G.F.'!E13+'Page 4b, Impact, Restr G.F.'!E13 -> 0 | F13: =C13+E13 -> 0
A14: TOTAL REVENUES | C14: =SUM(C10:C13) -> 0 | E14: =SUM(E10:E13) -> 0 | F14: =SUM(F10:F13) -> 0
A15: EXPENDITURES
A16: Certificated Salaries | B16: 1000-1999 | C16: ='Page 4a, Impact, Unrestr G.F.'!C16+'Page 4b, Impact, Restr G.F.'!C16 -> 0 | D16: ='Page 4a, Impact, Unrestr G.F.'!D16+'Page 4b, Impact, Restr G.F.'!D16 -> 0 | E16: ='Page 4a, Impact, Unrestr G.F.'!E16+'Page 4b, Impact, Restr G.F.'!E16 -> 0 | F16: =C16+D16+E16 -> 0
A17: Classified Salaries | B17: 2000-2999 | C17: ='Page 4a, Impact, Unrestr G.F.'!C17+'Page 4b, Impact, Restr G.F.'!C17 -> 0 | D17: ='Page 4a, Impact, Unrestr G.F.'!D17+'Page 4b, Impact, Restr G.F.'!D17 -> 0 | E17: ='Page 4a, Impact, Unrestr G.F.'!E17+'Page 4b, Impact, Restr G.F.'!E17 -> 0 | F17: =C17+D17+E17 -> 0
A18: Employee Benefits | B18: 3000-3999 | C18: ='Page 4a, Impact, Unrestr G.F.'!C18+'Page 4b, Impact, Restr G.F.'!C18 -> 0 | D18: ='Page 4a, Impact, Unrestr G.F.'!D18+'Page 4b, Impact, Restr G.F.'!D18 -> 0 | E18: ='Page 4a, Impact, Unrestr G.F.'!E18+'Page 4b, Impact, Restr G.F.'!E18 -> 0 | F18: =C18+D18+E18 -> 0
A19: Books and Supplies | B19: 4000-4999 | C19: ='Page 4a, Impact, Unrestr G.F.'!C19+'Page 4b, Impact, Restr G.F.'!C19 -> 0 | E19: ='Page 4a, Impact, Unrestr G.F.'!E19+'Page 4b, Impact, Restr G.F.'!E19 -> 0 | F19: =C19+E19 -> 0
A20: Services and Other Operating Expenditures | B20: 5000-5999 | C20: ='Page 4a, Impact, Unrestr G.F.'!C20+'Page 4b, Impact, Restr G.F.'!C20 -> 0 | E20: ='Page 4a, Impact, Unrestr G.F.'!E20+'Page 4b, Impact, Restr G.F.'!E20 -> 0 | F20: =C20+E20 -> 0
A21: Capital Outlay | B21: 6000-6999 | C21: ='Page 4a, Impact, Unrestr G.F.'!C21+'Page 4b, Impact, Restr G.F.'!C21 -> 0 | E21: ='Page 4a, Impact, Unrestr G.F.'!E21+'Page 4b, Impact, Restr G.F.'!E21 -> 0 | F21: =C21+E21 -> 0
A22: Other Outgo (excluding Indirect Costs) | B22: 7100-7299 7400-7499 | C22: ='Page 4a, Impact, Unrestr G.F.'!C22+'Page 4b, Impact, Restr G.F.'!C22 -> 0 | E22: ='Page 4a, Impact, Unrestr G.F.'!E22+'Page 4b, Impact, Restr G.F.'!E22 -> 0 | F22: =C22+E22 -> 0
A23: Transfers of Indirect Costs | B23: 7300-7399 | C23: ='Page 4a, Impact, Unrestr G.F.'!C23+'Page 4b, Impact, Restr G.F.'!C23 -> 0 | E23: ='Page 4a, Impact, Unrestr G.F.'!E23+'Page 4b, Impact, Restr G.F.'!E23 -> 0 | F23: =C23+E23 -> 0
A24: TOTAL EXPENDITURES | C24: =SUM(C16:C23) -> 0 | D24: =SUM(D16:D18) -> 0 | E24: =SUM(E16:E23) -> 0 | F24: =SUM(F16:F23) -> 0
A25: OTHER FINANCING SOURCES/USES
A26: Transfer In and Other Sources | B26: 8900-8979 | C26: ='Page 4a, Impact, Unrestr G.F.'!C26+'Page 4b, Impact, Restr G.F.'!C26 -> 0 | D26: ='Page 4a, Impact, Unrestr G.F.'!D26+'Page 4b, Impact, Restr G.F.'!D26 -> 0 | E26: ='Page 4a, Impact, Unrestr G.F.'!E26+'Page 4b, Impact, Restr G.F.'!E26 -> 0 | F26: =C26+D26+E26 -> 0
A27: Transfers Out and Other Uses | B27: 7600-7699 | C27: ='Page 4a, Impact, Unrestr G.F.'!C27+'Page 4b, Impact, Restr G.F.'!C27 -> 0 | D27: ='Page 4a, Impact, Unrestr G.F.'!D27+'Page 4b, Impact, Restr G.F.'!D27 -> 0 | E27: ='Page 4a, Impact, Unrestr G.F.'!E27+'Page 4b, Impact, Restr G.F.'!E27 -> 0 | F27: =C27+D27+E27 -> 0
A28: Contributions | B28: 8980-8999 | C28: ='Page 4a, Impact, Unrestr G.F.'!C28+'Page 4b, Impact, Restr G.F.'!C28 -> 0 | D28: ='Page 4a, Impact, Unrestr G.F.'!D28+'Page 4b, Impact, Restr G.F.'!D28 -> 0 | E28: ='Page 4a, Impact, Unrestr G.F.'!E28+'Page 4b, Impact, Restr G.F.'!E28 -> 0 | F28: =C28+D28+E28 -> 0
A29: OPERATING SURPLUS (DEFICIT)* | C29: =C14-C24+C26-C27+C28 -> 0 | D29: =D14-D24+D26-D27+D28 -> 0 | E29: =E14-E24+E26-E27+E28 -> 0 | F29: =F14-F24+F26-F27+F28 -> 0
A31: BEGINNING FUND BALANCE | B31: 9791 | C31: ='Page 4a, Impact, Unrestr G.F.'!C31+'Page 4b, Impact, Restr G.F.'!C31 -> 0 | F31: =C31 -> 0
A32: Audit Adjustments/Other Restatements | B32: 9793/9795 | C32: ='Page 4a, Impact, Unrestr G.F.'!C32+'Page 4b, Impact, Restr G.F.'!C32 -> 0 | F32: =C32 -> 0
A33: ENDING FUND BALANCE | C33: =C29+C31+C32 -> 0 | D33: =D29 -> 0 | E33: =E29 -> 0 | F33: =F29+F31+F32 -> 0
A34: COMPONENTS OF ENDING FUND BALANCE:
A35: Nonspendable | B35: 9711-9719 | C35: ='Page 4a, Impact, Unrestr G.F.'!C35+'Page 4b, Impact, Restr G.F.'!C35 -> 0 | D35: ='Page 4a, Impact, Unrestr G.F.'!D35+'Page 4b, Impact, Restr G.F.'!D35 -> 0 | E35: ='Page 4a, Impact, Unrestr G.F.'!E35+'Page 4b, Impact, Restr G.F.'!E35 -> 0 | F35: =C35+D35+E35 -> 0
A36: Restricted | B36: 9740 | C36: ='Page 4a, Impact, Unrestr G.F.'!C36+'Page 4b, Impact, Restr G.F.'!C36 -> 0 | D36: ='Page 4a, Impact, Unrestr G.F.'!D36+'Page 4b, Impact, Restr G.F.'!D36 -> 0 | E36: ='Page 4a, Impact, Unrestr G.F.'!E36+'Page 4b, Impact, Restr G.F.'!E36 -> 0 | F36: =C36+D36+E36 -> 0
A37: Committed | B37: 9750-9760 | C37: ='Page 4a, Impact, Unrestr G.F.'!C37+'Page 4b, Impact, Restr G.F.'!C37 -> 0 | D37: ='Page 4a, Impact, Unrestr G.F.'!D37+'Page 4b, Impact, Restr G.F.'!D37 -> 0 | E37: ='Page 4a, Impact, Unrestr G.F.'!E37+'Page 4b, Impact, Restr G.F.'!E37 -> 0 | F37: =C37+D37+E37 -> 0
A38: Assigned | B38: 9780 | C38: ='Page 4a, Impact, Unrestr G.F.'!C38+'Page 4b, Impact, Restr G.F.'!C38 -> 0 | D38: ='Page 4a, Impact, Unrestr G.F.'!D38+'Page 4b, Impact, Restr G.F.'!D38 -> 0 | E38: ='Page 4a, Impact, Unrestr G.F.'!E38+'Page 4b, Impact, Restr G.F.'!E38 -> 0 | F38: =C38+D38+E38 -> 0
A39: Reserve for Economic Uncertainties | B39: 9789 | C39: ='Page 4a, Impact, Unrestr G.F.'!C39+'Page 4b, Impact, Restr G.F.'!C39 -> 0 | D39: ='Page 4a, Impact, Unrestr G.F.'!D39+'Page 4b, Impact, Restr G.F.'!D39 -> 0 | E39: ='Page 4a, Impact, Unrestr G.F.'!E39+'Page 4b, Impact, Restr G.F.'!E39 -> 0 | F39: =C39+D39+E39 -> 0
A40: Unassigned/Unappropriated Amount | B40: 9790 | C40: =C33-SUM(C35:C39) -> 0 | D40: =D33-SUM(D35:D39) -> 0 | E40: =E33-SUM(E35:E39) -> 0 | F40: =F33-SUM(F35:F39) -> 0
A41: *Net Increase (Decrease) in Fund Balance | C41: NOTE: 9790 amounts in Columns 1 and 4 must be positive

Sheet Page 4d, Impact, Adult Fund
A1: =IF('Page 1, Agreement'!C4=0," ",'Page 1, Agreement'!C4)
A3: G. IMPACT OF PROPOSED AGREEMENT ON CURRENT YEAR OPERATING BUDGET
C5: Fund 11 - Adult Education Fund
A6: Bargaining Unit: | C6: =IF('Page 1, Agreement'!C5=0," ",'Page 1, Agreement'!C5)
C7: Column 1 | D7: Column 2 | E7: Column 3 | F7: Column 4
B8: Object Code | C8: Latest Board-Approved Budget Before Settlement (As of ________) | D8: Adjustments as a Result of Settlement (compensation) | E8: Other Revisions (agreement support and/or other unit agreement) Explain on Page 4i | F8: Total Revised Budget (Columns 1+2+3)
A9: REVENUES
A10: Federal Revenue | B10: 8100-8299 | C10: 0 | E10: 0 | F10: =C10+E10 -> 0
A11: Other State Revenue | B11: 8300-8599 | C11: 0 | E11: 0 | F11: =C11+E11 -> 0
A12: Other Local Revenue | B12: 8600-8799 | C12: 0 | E12: 0 | F12: =C12+E12 -> 0
A13: TOTAL REVENUES | C13: =SUM(C10:C12) -> 0 | E13: =SUM(E10:E12) -> 0 | F13: =SUM(F10:F12) -> 0
A14: EXPENDITURES
A15: Certificated Salaries | B15: 1000-1999 | C15: 0 | D15: 0 | E15: 0 | F15: =C15+D15+E15 -> 0
A16: Classified Salaries | B16: 2000-2999 | C16: 0 | D16: 0 | E16: 0 | F16: =C16+D16+E16 -> 0
A17: Employee Benefits | B17: 3000-3999 | C17: 0 | D17: 0 | E17: 0 | F17: =C17+D17+E17 -> 0
A18: Books and Supplies | B18: 4000-4999 | C18: 0 | E18: 0 | F18: =C18+E18 -> 0
A19: Services and Other Operating Expenditures | B19: 5000-5999 | C19: 0 | E19: 0 | F19: =C19+E19 -> 0
A20: Capital Outlay | B20: 6000-6999 | C20: 0 | E20: 0 | F20: =C20+E20 -> 0
A21: Other Outgo (excluding Indirect Costs) | B21: 7100-7299 7400-7499 | C21: 0 | E21: 0 | F21: =C21+E21 -> 0
A22: Transfers of Indirect Costs | B22: 7300-7399 | C22: 0 | E22: 0 | F22: =C22+E22 -> 0
A23: TOTAL EXPENDITURES | C23: =SUM(C15:C22) -> 0 | D23: =SUM(D15:D17) -> 0 | E23: =SUM(E15:E22) -> 0 | F23: =SUM(F15:F22) -> 0
A24: OTHER FINANCING SOURCES/USES
A25: Transfers In and Other Sources | B25: 8900-8979 | C25: 0 | D25: 0 | E25: 0 | F25: =C25+D25+E25 -> 0
A26: Transfers Out and Other Uses | B26: 7600-7699 | C26: 0 | D26: 0 | E26: 0 | F26: =C26+D26+E26 -> 0
A27: OPERATING SURPLUS (DEFICIT)* | C27: =C13-C23+C25-C26 -> 0 | D27: =D13-D23+D25-D26 -> 0 | E27: =E13-E23+E25-E26 -> 0 | F27: =F13-F23+F25-F26 -> 0
A29: BEGINNING FUND BALANCE | B29: 9791 | C29: 0 | F29: =C29 -> 0
A30: Audit Adjustments/Other Restatements | B30: 9793/9795 | C30: 0 | F30: =C30 -> 0
A31: ENDING FUND BALANCE | C31: =C27+C29+C30 -> 0 | D31: =D27 -> 0 | E31: =E27 -> 0 | F31: =F27+F29+F30 -> 0
A32: COMPONENTS OF ENDING FUND BALANCE:
A33: Nonspendable | B33: 9711-9719 | C33: 0 | D33: 0 | E33: 0 | F33: =C33+D33+E33 -> 0
A34: Restricted | B34: 9740 | C34: 0 | D34: 0 | E34: 0 | F34: =C34+D34+E34 -> 0
A35: Committed | B35: 9750-9760 | C35: 0 | D35: 0 | E35: 0 | F35: =C35+D35+E35 -> 0
A36: Assigned | B36: 9780 | C36: 0 | D36: 0 | E36: 0 | F36: =C36+D36+E36 -> 0
A37: Reserve for Economic Uncertainties | B37: 9789 | C37: 0 | D37: 0 | E37: 0 | F37: =C37+D37+E37 -> 0
A38: Unassigned/Unappropriated Amount | B38: 9790 | C38: =C31-SUM(C33:C37) -> 0 | D38: =D31-SUM(D33:D37) -> 0 | E38: =E31-SUM(E33:E37) -> 0 | F38: =F31-SUM(F33:F37) -> 0
A39: *Net Increase (Decrease) in Fund Balance | C39: NOTE: 9790 amounts in Columns 1 and 4 must be positive

Sheet Page 4e, Impact, Child Dev Fund
A1: =IF('Page 1, Agreement'!C4=0," ",'Page 1, Agreement'!C4)
A3: G. IMPACT OF PROPOSED AGREEMENT ON CURRENT YEAR OPERATING BUDGET
C5: Fund 12 - Child Development Fund
A6: Bargaining Unit: | C6: =IF('Page 1, Agreement'!C5=0," ",'Page 1, Agreement'!C5)
C7: Column 1 | D7: Column 2 | E7: Column 3 | F7: Column 4
B8: Object Code | C8: ='Page 4a, Impact, Unrestr G.F.'!C8 -> Latest Board-Approved Budget Before Settlement (As of -------) | D8: Adjustments as a Result of Settlement (compensation) | E8: Other Revisions (agreement support and/or other unit agreement) Explain on Page 4i | F8: Total Revised Budget (Columns 1+2+3)
A9: REVENUES
A10: Federal Revenue | B10: 8100-8299 | C10: 0 | E10: 0 | F10: =C10+E10 -> 0
A11: Other State Revenue | B11: 8300-8599 | C11: 0 | E11: 0 | F11: =C11+E11 -> 0
A12: Other Local Revenue | B12: 8600-8799 | C12: 0 | E12: 0 | F12: =C12+E12 -> 0
A13: TOTAL REVENUES | C13: =SUM(C10:C12) -> 0 | E13: =SUM(E10:E12) -> 0 | F13: =SUM(F10:F12) -> 0
A14: EXPENDITURES
A15: Certificated Salaries | B15: 1000-1999 | C15: 0 | D15: 0 | E15: 0 | F15: =C15+D15+E15 -> 0
A16: Classified Salaries | B16: 2000-2999 | C16: 0 | D16: 0 | E16: 0 | F16: =C16+D16+E16 -> 0
A17: Employee Benefits | B17: 3000-3999 | C17: 0 | D17: 0 | E17: 0 | F17: =C17+D17+E17 -> 0
A18: Books and Supplies | B18: 4000-4999 | C18: 0 | E18: 0 | F18: =C18+E18 -> 0
A19: Services and Other Operating Expenditures | B19: 5000-5999 | C19: 0 | E19: 0 | F19: =C19+E19 -> 0
A20: Capital Outlay | B20: 6000-6999 | C20: 0 | E20: 0 | F20: =C20+E20 -> 0
A21: Other Outgo (excluding Indirect Costs) | B21: 7100-7299 7400-7499 | C21: 0 | E21: 0 | F21: =C21+E21 -> 0
A22: Transfers of Indirect Costs | B22: 7300-7399 | C22: 0 | E22: 0 | F22: =C22+E22 -> 0
A23: TOTAL EXPENDITURES | C23: =SUM(C15:C22) -> 0 | D23: =SUM(D15:D17) -> 0 | E23: =SUM(E15:E22) -> 0 | F23: =SUM(F15:F22) -> 0
A24: OTHER FINANCING SOURCES/USES
A25: Transfers In and Other Sources | B25: 8900-8979 | C25: 0 | D25: 0 | E25: 0 | F25: =C25+D25+E25 -> 0
A26: Transfers Out and Other Uses | B26: 7600-7699 | C26: 0 | D26: 0 | E26: 0 | F26: =C26+D26+E26 -> 0
A27: OPERATING SURPLUS (DEFICIT)* | C27: =C13-C23+C25-C26 -> 0 | D27: =D13-D23+D25-D26 -> 0 | E27: =E13-E23+E25-E26 -> 0 | F27: =F13-F23+F25-F26 -> 0
A29: BEGINNING FUND BALANCE | B29: 9791 | C29: 0 | F29: =C29 -> 0
A30: Audit Adjustments/Other Restatements | B30: 9793/9795 | C30: 0 | F30: =C30 -> 0
A31: ENDING FUND BALANCE | C31: =C27+C29+C30 -> 0 | D31: =D27 -> 0 | E31: =E27 -> 0 | F31: =F27+F29+F30 -> 0
A32: COMPONENTS OF ENDING FUND BALANCE:
A33: Nonspendable | B33: 9711-9719 | C33: 0 | D33: 0 | E33: 0 | F33: =C33+D33+E33 -> 0
A34: Restricted | B34: 9740 | C34: 0 | D34: 0 | E34: 0 | F34: =C34+D34+E34 -> 0
A35: Committed | B35: 9750-9760 | C35: 0 | D35: 0 | E35: 0 | F35: =C35+D35+E35 -> 0
A36: Assigned | B36: 9780 | C36: 0 | D36: 0 | E36: 0 | F36: =C36+D36+E36 -> 0
A37: Reserve for Economic Uncertainties | B37: 9789 | C37: 0 | D37: 0 | E37: 0 | F37: =C37+D37+E37 -> 0
A38: Unassigned/Unappropriated Amount | B38: 9790 | C38: =C31-SUM(C33:C37) -> 0 | D38: =D31-SUM(D33:D37) -> 0 | E38: =E31-SUM(E33:E37) -> 0 | F38: =F31-SUM(F33:F37) -> 0
A39: *Net Increase (Decrease) in Fund Balance | C39: NOTE: 9790 amounts in Columns 1 and 4 must be positive

Sheet Page 4f, Impact, Cafeteria Fund
A1: =IF('Page 1, Agreement'!C4=0," ",'Page 1, Agreement'!C4)
A3: G. IMPACT OF PROPOSED AGREEMENT ON CURRENT YEAR OPERATING BUDGET
C5: Fund 13/61 - Cafeteria Fund
A6: Bargaining Unit: | C6: =IF('Page 1, Agreement'!C5=0," ",'Page 1, Agreement'!C5)
C7: Column 1 | D7: Column 2 | E7: Column 3 | F7: Column 4
B8: Object Code | C8: ='Page 4a, Impact, Unrestr G.F.'!C8 -> Latest Board-Approved Budget Before Settlement (As of -------) | D8: Adjustments as a Result of Settlement (compensation) | E8: Other Revisions (agreement support and/or other unit agreement) Explain on Page 4i | F8: Total Revised Budget (Columns 1+2+3)
A9: REVENUES
A10: LCFF Revenue | B10: 8010-8099 | C10: 0 | E10: 0 | F10: =C10+E10 -> 0
A11: Federal Revenue | B11: 8100-8299 | C11: 0 | E11: 0 | F11: =C11+E11 -> 0
A12: Other State Revenue | B12: 8300-8599 | C12: 0 | E12: 0 | F12: =C12+E12 -> 0
A13: Other Local Revenue | B13: 8600-8799 | C13: 0 | E13: 0 | F13: =C13+E13 -> 0
A14: TOTAL REVENUES | C14: =SUM(C10:C13) -> 0 | E14: =SUM(E10:E13) -> 0 | F14: =SUM(F10:F13) -> 0
A15: EXPENDITURES
A16: Certificated Salaries | B16: 1000-1999 | C16: 0 | D16: 0 | E16: 0 | F16: =C16+D16+E16 -> 0
A17: Classified Salaries | B17: 2000-2999 | C17: 0 | D17: 0 | E17: 0 | F17: =C17+D17+E17 -> 0
A18: Employee Benefits | B18: 3000-3999 | C18: 0 | D18: 0 | E18: 0 | F18: =C18+D18+E18 -> 0
A19: Books and Supplies | B19: 4000-4999 | C19: 0 | E19: 0 | F19: =C19+E19 -> 0
A20: Services and Other Operating Expenditures | B20: 5000-5999 | C20: 0 | E20: 0 | F20: =C20+E20 -> 0
A21: Capital Outlay | B21: 6000-6999 | C21: 0 | E21: 0 | F21: =C21+E21 -> 0
A22: Other Outgo (excluding Indirect Costs) | B22: 7100-7299 7400-7499 | C22: 0 | E22: 0 | F22: =C22+E22 -> 0
A23: Transfers of Indirect Costs | B23: 7300-7399 | C23: 0 | E23: 0 | F23: =C23+E23 -> 0
A24: TOTAL EXPENDITURES | C24: =SUM(C16:C23) -> 0 | D24: =SUM(D16:D18) -> 0 | E24: =SUM(E16:E23) -> 0 | F24: =SUM(F16:F23) -> 0
A25: OTHER FINANCING SOURCES/USES
A26: Transfers In and Other Sources | B26: 8900-8979 | C26: 0 | D26: 0 | E26: 0 | F26: =C26+D26+E26 -> 0
A27: Transfers Out and Other Uses | B27: 7600-7699 | C27: 0 | D27: 0 | E27: 0 | F27: =C27+D27+E27 -> 0
A28: OPERATING SURPLUS (DEFICIT)* | C28: =C14-C24+C26-C27 -> 0 | D28: =D14-D24+D26-D27 -> 0 | E28: =E14-E24+E26-E27 -> 0 | F28: =F14-F24+F26-F27 -> 0
A30: BEGINNING FUND BALANCE | B30: 9791 | C30: 0 | F30: =C30 -> 0
A31: Audit Adjustments/Other Restatements | B31: 9793/9795 | C31: 0 | F31: =C31 -> 0
A32: ENDING FUND BALANCE | C32: =C28+C30+C31 -> 0 | D32: =D28 -> 0 | E32: =E28 -> 0 | F32: =F28+F30+F31 -> 0
A33: COMPONENTS OF ENDING FUND BALANCE:
A34: Nonspendable | B34: 9711-9719 | C34: 0 | D34: 0 | E34: 0 | F34: =C34+D34+E34 -> 0
A35: Restricted | B35: 9740 | C35: 0 | D35: 0 | E35: 0 | F35: =C35+D35+E35 -> 0
A36: Committed | B36: 9750-9760 | C36: 0 | D36: 0 | E36: 0 | F36: =C36+D36+E36 -> 0
A37: Assigned | B37: 9780 | C37: 0 | D37: 0 | E37: 0 | F37: =C37+D37+E37 -> 0
A38: Reserve for Economic Uncertainties | B38: 9789 | C38: 0 | D38: 0 | E38: 0 | F38: =C38+D38+E38 -> 0
A39: Unassigned/Unappropriated Amount | B39: 9790 | C39: =C32-SUM(C34:C38) -> 0 | D39: =D32-SUM(D34:D38) -> 0 | E39: =E32-SUM(E34:E38) -> 0 | F39: =F32-SUM(F34:F38) -> 0
A40: *Net Increase (Decrease) in Fund Balance | C40: NOTE: 9790 amounts in Columns 1 and 4 must be positive

Sheet Page 4g, Impact, Other Fund
A1: =IF('Page 1, Agreement'!C4=0," ",'Page 1, Agreement'!C4)
A3: G. IMPACT OF PROPOSED AGREEMENT ON CURRENT YEAR OPERATING BUDGET
A5: Enter Fund:
A6: Bargaining Unit: | C6: =IF('Page 1, Agreement'!C5=0," ",'Page 1, Agreement'!C5)
C7: Column 1 | D7: Column 2 | E7: Column 3 | F7: Column 4
B8: Object Code | C8: ='Page 4a, Impact, Unrestr G.F.'!C8 -> Latest Board-Approved Budget Before Settlement (As of -------) | D8: Adjustments as a Result of Settlement (compensation) | E8: Other Revisions (agreement support and/or other unit agreement) Explain on Page 4i | F8: Total Revised Budget (Columns 1+2+3)
A9: REVENUES
A10: Federal Revenue | B10: 8100-8299 | C10: 0 | E10: 0 | F10: =C10+E10 -> 0
A11: Other State Revenue | B11: 8300-8599 | C11: 0 | E11: 0 | F11: =C11+E11 -> 0
A12: Other Local Revenues | B12: 8600-8799 | C12: 0 | E12: 0 | F12: =C12+E12 -> 0
A13: TOTAL REVENUES | C13: =SUM(C10:C12) -> 0 | E13: =SUM(E10:E12) -> 0 | F13: =SUM(F10:F12) -> 0
A14: EXPENDITURES
A15: Certificated Salaries | B15: 1000-1999 | C15: 0 | D15: 0 | E15: 0 | F15: =C15+D15+E15 -> 0
A16: Classified Salaries | B16: 2000-2999 | C16: 0 | D16: 0 | E16: 0 | F16: =C16+D16+E16 -> 0
A17: Employee Benefits | B17: 3000-3999 | C17: 0 | D17: 0 | E17: 0 | F17: =C17+D17+E17 -> 0
A18: Books and Supplies | B18: 4000-4999 | C18: 0 | E18: 0 | F18: =C18+E18 -> 0
A19: Services and Other Operating Expenditures | B19: 5000-5999 | C19: 0 | E19: 0 | F19: =C19+E19 -> 0
A20: Capital Outlay | B20: 6000-6999 | C20: 0 | E20: 0 | F20: =C20+E20 -> 0
A21: Other Outgo (excluding Indirect Costs) | B21: 7100-7299 7400-7499 | C21: 0 | E21: 0 | F21: =C21+E21 -> 0
A22: Transfers of Indirect Costs | B22: 7300-7399 | C22: 0 | E22: 0 | F22: =C22+E22 -> 0
A23: TOTAL EXPENDITURES | C23: =SUM(C15:C22) -> 0 | D23: =SUM(D15:D17) -> 0 | E23: =SUM(E15:E22) -> 0 | F23: =SUM(F15:F22) -> 0
A24: OTHER FINANCING SOURCES/USES
A25: Transfers In and Other Sources | B25: 8900-8979 | C25: 0 | D25: 0 | E25: 0 | F25: =C25+D25+E25 -> 0
A26: Transfers Out and Other Uses | B26: 7600-7699 | C26: 0 | D26: 0 | E26: 0 | F26: =C26+D26+E26 -> 0
A27: OPERATING SURPLUS (DEFICIT)* | C27: =C13-C23+C25-C26 -> 0 | D27: =D13-D23+D25-D26 -> 0 | E27: =E13-E23+E25-E26 -> 0 | F27: =F13-F23+F25-F26 -> 0
A29: BEGINNING FUND BALANCE | B29: 9791 | C29: 0 | F29: =C29 -> 0
A30: Audit Adjustments/Other Restatements | B30: 9793/9795 | C30: 0 | F30: =C30 -> 0
A31: ENDING FUND BALANCE | C31: =C27+C29+C30 -> 0 | D31: =D27 -> 0 | E31: =E27 -> 0 | F31: =F27+F29+F30 -> 0
A32: COMPONENTS OF ENDING FUND BALANCE:
A33: Nonspendable | B33: 9711-9719 | C33: 0 | D33: 0 | E33: 0 | F33: =C33+D33+E33 -> 0
A34: Restricted | B34: 9740 | C34: 0 | D34: 0 | E34: 0 | F34: =C34+D34+E34 -> 0
A35: Committed | B35: 9750-9760 | C35: 0 | D35: 0 | E35: 0 | F35: =C35+D35+E35 -> 0
A36: Assigned | B36: 9780 | C36: 0 | D36: 0 | E36: 0 | F36: =C36+D36+E36 -> 0
A37: Reserve for Economic Uncertainties | B37: 9789 | C37: 0 | D37: 0 | E37: 0 | F37: =C37+D37+E37 -> 0
A38: Unassigned/Unappropriated Amount | B38: 9790 | C38: =C31-SUM(C33:C37) -> 0 | D38: =D31-SUM(D33:D37) -> 0 | E38: =E31-SUM(E33:E37) -> 0 | F38: =F31-SUM(F33:F37) -> 0
A39: *Net Increase (Decrease) in Fund Balance | C39: NOTE: 9790 amounts in Columns 1 and 4 must be positive

Sheet Page 4h, Impact, Other Fund
A1: =IF('Page 1, Agreement'!C4=0," ",'Page 1, Agreement'!C4)
A3: G. IMPACT OF PROPOSED AGREEMENT ON CURRENT YEAR OPERATING BUDGET
A5: Enter Fund:
A6: Bargaining Unit: | C6: =IF('Page 1, Agreement'!C5=0," ",'Page 1, Agreement'!C5)
C7: Column 1 | D7: Column 2 | E7: Column 3 | F7: Column 4
B8: Object Code | C8: ='Page 4a, Impact, Unrestr G.F.'!C8 -> Latest Board-Approved Budget Before Settlement (As of -------) | D8: Adjustments as a Result of Settlement (compensation) | E8: Other Revisions (agreement support and/or other unit agreement) Explain on Page 4i | F8: Total Revised Budget (Columns 1+2+3)
A9: REVENUES
A10: Federal Revenue | B10: 8100-8299 | C10: 0 | E10: 0 | F10: =C10+E10 -> 0
A11: Other State Revenue | B11: 8300-8599 | C11: 0 | E11: 0 | F11: =C11+E11 -> 0
A12: Other Local Revenue | B12: 8600-8799 | C12: 0 | E12: 0 | F12: =C12+E12 -> 0
A13: TOTAL REVENUES | C13: =SUM(C10:C12) -> 0 | E13: =SUM(E10:E12) -> 0 | F13: =SUM(F10:F12) -> 0
A14: EXPENDITURES
A15: Certificated Salaries | B15: 1000-1999 | C15: 0 | D15: 0 | E15: 0 | F15: =C15+D15+E15 -> 0
A16: Classified Salaries | B16: 2000-2999 | C16: 0 | D16: 0 | E16: 0 | F16: =C16+D16+E16 -> 0
A17: Employee Benefits | B17: 3000-3999 | C17: 0 | D17: 0 | E17: 0 | F17: =C17+D17+E17 -> 0
A18: Books and Supplies | B18: 4000-4999 | C18: 0 | E18: 0 | F18: =C18+E18 -> 0
A19: Services and Other Operating Expenditures | B19: 5000-5999 | C19: 0 | E19: 0 | F19: =C19+E19 -> 0
A20: Capital Outlay | B20: 6000-6999 | C20: 0 | E20: 0 | F20: =C20+E20 -> 0
A21: Other Outgo (excluding Indirect Costs) | B21: 7100-7299 7400-7499 | C21: 0 | E21: 0 | F21: =C21+E21 -> 0
A22: Transfers of Indirect Costs | B22: 7300-7399 | C22: 0 | E22: 0 | F22: =C22+E22 -> 0
A23: TOTAL EXPENDITURES | C23: =SUM(C15:C22) -> 0 | D23: =SUM(D15:D17) -> 0 | E23: =SUM(E15:E22) -> 0 | F23: =SUM(F15:F22) -> 0
A24: OTHER FINANCING SOURCES/USES
A25: Transfers In and Other Sources | B25: 8900-8979 | C25: 0 | D25: 0 | E25: 0 | F25: =C25+D25+E25 -> 0
A26: Transfers Out and Other Uses | B26: 7600-7699 | C26: 0 | D26: 0 | E26: 0 | F26: =C26+D26+E26 -> 0
A27: OPERATING SURPLUS (DEFICIT)* | C27: =C13-C23+C25-C26 -> 0 | D27: =D13-D23+D25-D26 -> 0 | E27: =E13-E23+E25-E26 -> 0 | F27: =F13-F23+F25-F26 -> 0
A29: BEGINNING FUND BALANCE | B29: 9791 | C29: 0 | F29: =C29 -> 0
A30: Audit Adjustments/Other Restatements | B30: 9793/9795 | C30: 0 | F30: =C30 -> 0
A31: ENDING FUND BALANCE | C31: =C27+C29+C30 -> 0 | D31: =D27 -> 0 | E31: =E27 -> 0 | F31: =F27+F29+F30 -> 0
A32: COMPONENTS OF ENDING FUND BALANCE:
A33: Nonspendable | B33: 9711-9719 | C33: 0 | D33: 0 | E33: 0 | F33: =C33+D33+E33 -> 0
A34: Restricted | B34: 9740 | C34: 0 | D34: 0 | E34: 0 | F34: =C34+D34+E34 -> 0
A35: Committed | B35: 9750-9760 | C35: 0 | D35: 0 | E35: 0 | F35: =C35+D35+E35 -> 0
A36: Assigned | B36: 9780 | C36: 0 | D36: 0 | E36: 0 | F36: =C36+D36+E36 -> 0
A37: Reserve for Economic Uncertainties | B37: 9789 | C37: 0 | D37: 0 | E37: 0 | F37: =C37+D37+E37 -> 0
A38: Unassigned/Unappropriated Amount | B38: 9790 | C38: =C31-SUM(C33:C37) -> 0 | D38: =D31-SUM(D33:D37) -> 0 | E38: =E31-SUM(E33:E37) -> 0 | F38: =F31-SUM(F33:F37) -> 0
A39: *Net Increase (Decrease) in Fund Balance | C39: NOTE: 9790 amounts in Columns 1 and 4 must be positive

Sheet Page 4i, Column 3 Explanations
A1: =IF('Page 1, Agreement'!C4=0," ",'Page 1, Agreement'!C4)
A2: =IF('Page 1, Agreement'!C5=0," ",'Page 1, Agreement'!C5)
B3: Explanations for Column 3 "Other Revisions" entered on Pages 4a through 4h: | I3: Section G, Pages 4a through 4i: Impact of Proposed Agreement on Current-Year Operating Budget
I4: for General, Adult Education, Child Development, Cafeteria and Other Funds
B5: Page 4a: Unrestricted General Fund | D5: Amount | E5: Explanation
C6: Revenues | D6: ='Page 4a, Impact, Unrestr G.F.'!E14 -> 0
C7: Expenditures | D7: ='Page 4a, Impact, Unrestr G.F.'!E24 -> 0
C8: Other Financing Sources/Uses | D8: ='Page 4a, Impact, Unrestr G.F.'!E26-'Page 4a, Impact, Unrestr G.F.'!E27+'Page 4a, Impact, Unrestr G.F.'!E28 -> 0
B10: Page 4b: Restricted General Fund | D10: Amount | E10: Explanation
C11: Revenues | D11: ='Page 4b, Impact, Restr G.F.'!E14 -> 0
C12: Expenditures | D12: ='Page 4b, Impact, Restr G.F.'!E24 -> 0
C13: Other Financing Sources/Uses | D13: ='Page 4b, Impact, Restr G.F.'!E26-'Page 4b, Impact, Restr G.F.'!E27+'Page 4b, Impact, Restr G.F.'!E28 -> 0
B15: Page 4d: Fund 11 - Adult Education Fund | D15: Amount | E15: Explanation
C16: Revenues | D16: ='Page 4d, Impact, Adult Fund'!E13 -> 0
C17: Expenditures | D17: ='Page 4d, Impact, Adult Fund'!E23 -> 0
C18: Other Financing Sources/Uses | D18: ='Page 4d, Impact, Adult Fund'!E25-'Page 4d, Impact, Adult Fund'!E26 -> 0
B20: Page 4e: Fund 12 - Child Development Fund | D20: Amount | E20: Explanation
C21: Revenues | D21: ='Page 4e, Impact, Child Dev Fund'!E13 -> 0
C22: Expenditures | D22: ='Page 4e, Impact, Child Dev Fund'!E23 -> 0
C23: Other Financing Sources/Uses | D23: ='Page 4e, Impact, Child Dev Fund'!E25-'Page 4e, Impact, Child Dev Fund'!E26 -> 0
B25: Page 4f: Fund 13/61 - Cafeteria Fund | D25: Amount | E25: Explanation
C26: Revenues | D26: ='Page 4f, Impact, Cafeteria Fund'!E14 -> 0
C27: Expenditures | D27: ='Page 4f, Impact, Cafeteria Fund'!E24 -> 0
C28: Other Financing Sources/Uses | D28: ='Page 4f, Impact, Cafeteria Fund'!E26-'Page 4f, Impact, Cafeteria Fund'!E27 -> 0
B30: Page 4g: Other | D30: Amount | E30: Explanation
C31: Revenues | D31: ='Page 4g, Impact, Other Fund'!E13 -> 0
C32: Expenditures | D32: ='Page 4g, Impact, Other Fund'!E23 -> 0
C33: Other Financing Sources/Uses | D33: ='Page 4g, Impact, Other Fund'!E25-'Page 4g, Impact, Other Fund'!E26 -> 0
B35: Page 4h: Other | D35: Amount | E35: Explanation
C36: Revenues | D36: ='Page 4h, Impact, Other Fund'!E13 -> 0
C37: Expenditures | D37: ='Page 4h, Impact, Other Fund'!E23 -> 0
C38: Other Financing Sources/Uses | D38: ='Page 4h, Impact, Other Fund'!E25-'Page 4h, Impact, Other Fund'!E26 -> 0
B40: Additional Comments:

Sheet Page 5a, MYP, Unrestricted
A1: =IF('Page 1, Agreement'!C4=0," ",'Page 1, Agreement'!C4)
A3: H. IMPACT OF PROPOSED AGREEMENT ON SUBSEQUENT YEARS | G3: Section H, Pages 5a through 5c: Impact of Proposed Agreement on Subsequent Years
C5: Unrestricted General Fund MYP
A6: Bargaining Unit: | C6: =IF('Page 1, Agreement'!C5=0," ",'Page 1, Agreement'!C5)
C7: ='Page 1, Agreement'!E19 -> 2023-24 | D7: ='Page 1, Agreement'!F19 -> 2024-25 | E7: ='Page 1, Agreement'!G19 -> 2025-26
B8: Object Code | C8: Total Revised Budget After Settlement | D8: First Subsequent Year After Settlement | E8: Second Subsequent Year After Settlement
A9: REVENUES
A10: LCFF Revenue | B10: 8010-8099 | C10: ='Page 4a, Impact, Unrestr G.F.'!F10 -> 0 | D10: 0 | E10: 0
A11: Federal Revenue | B11: 8100-8299 | C11: ='Page 4a, Impact, Unrestr G.F.'!F11 -> 0 | D11: 0 | E11: 0
A12: Other State Revenue | B12: 8300-8599 | C12: ='Page 4a, Impact, Unrestr G.F.'!F12 -> 0 | D12: 0 | E12: 0
A13: Other Local Revenue | B13: 8600-8799 | C13: ='Page 4a, Impact, Unrestr G.F.'!F13 -> 0 | D13: 0 | E13: 0
A14: TOTAL REVENUES | C14: =SUM(C10:C13) -> 0 | D14: =SUM(D10:D13) -> 0 | E14: =SUM(E10:E13) -> 0
A15: EXPENDITURES
A16: Certificated Salaries | B16: 1000-1999 | C16: ='Page 4a, Impact, Unrestr G.F.'!F16 -> 0 | D16: 0 | E16: 0
A17: Classified Salaries | B17: 2000-2999 | C17: ='Page 4a, Impact, Unrestr G.F.'!F17 -> 0 | D17: 0 | E17: 0
A18: Employee Benefits | B18: 3000-3999 | C18: ='Page 4a, Impact, Unrestr G.F.'!F18 -> 0 | D18: 0 | E18: 0
A19: Books and Supplies | B19: 4000-4999 | C19: ='Page 4a, Impact, Unrestr G.F.'!F19 -> 0 | D19: 0 | E19: 0
A20: Services and Other Operating Expenditures | B20: 5000-5999 | C20: ='Page 4a, Impact, Unrestr G.F.'!F20 -> 0 | D20: 0 | E20: 0
A21: Capital Outlay | B21: 6000-6999 | C21: ='Page 4a, Impact, Unrestr G.F.'!F21 -> 0 | D21: 0 | E21: 0
A22: Other Outgo (excluding Indirect Costs) | B22: 7100-7299 7400-7499 | C22: ='Page 4a, Impact, Unrestr G.F.'!F22 -> 0 | D22: 0 | E22: 0
A23: Transfers of Indirect Costs | B23: 7300-7399 | C23: ='Page 4a, Impact, Unrestr G.F.'!F23 -> 0 | D23: 0 | E23: 0
A24: Other Adjustments | E24: 0
A25: TOTAL EXPENDITURES | C25: =SUM(C16:C23) -> 0 | D25: =SUM(D16:D24) -> 0 | E25: =SUM(E16:E24) -> 0
A26: OTHER FINANCING SOURCES/USES
A27: Transfers In and Other Sources | B27: 8900-8979 | C27: ='Page 4a, Impact, Unrestr G.F.'!F26 -> 0 | D27: 0 | E27: 0
A28: Transfers Out and Other Uses | B28: 7600-7699 | C28: ='Page 4a, Impact, Unrestr G.F.'!F27 -> 0 | D28: 0 | E28: 0
A29: Contributions | B29: 8980-8999 | C29: ='Page 4a, Impact, Unrestr G.F.'!F28 -> 0 | D29: 0 | E29: 0
A30: OPERATING SURPLUS (DEFICIT)* | C30: =C14-C25+C27-C28+C29 -> 0 | D30: =D14-D25+D27-D28+D29 -> 0 | E30: =E14-E25+E27-E28+E29 -> 0
A32: BEGINNING FUND BALANCE | B32: 9791 | C32: ='Page 4a, Impact, Unrestr G.F.'!F31 -> 0 | D32: =C34 -> 0 | E32: =D34 -> 0
A33: Audit Adjustments/Other Restatements | B33: 9793/9795 | C33: ='Page 4a, Impact, Unrestr G.F.'!F32 -> 0
A34: ENDING FUND BALANCE | C34: =C30+C32+C33 -> 0 | D34: =D30+D32 -> 0 | E34: =E30+E32 -> 0
A35: COMPONENTS OF ENDING FUND BALANCE:
A36: Nonspendable | B36: 9711-9719 | C36: ='Page 4a, Impact, Unrestr G.F.'!F35 -> 0 | D36: 0 | E36: 0
A37: Restricted | B37: 9740
A38: Committed | B38: 9750-9760 | C38: ='Page 4a, Impact, Unrestr G.F.'!F37 -> 0 | D38: 0 | E38: 0
A39: Assigned | B39: 9780 | C39: ='Page 4a, Impact, Unrestr G.F.'!F38 -> 0 | D39: 0 | E39: 0
A40: Reserve for Economic Uncertainties | B40: 9789 | C40: ='Page 4a, Impact, Unrestr G.F.'!F39 -> 0 | D40: 0 | E40: 0
A41: Unassigned/Unappropriated Amount | B41: 9790 | C41: =C34-SUM(C36:C40) -> 0 | D41: =D34-SUM(D36:D40) -> 0 | E41: =E34-SUM(E36:E40) -> 0
A42: *Net Increase (Decrease) in Fund Balance | C42: NOTE: 9790 amounts must be positive

Sheet Page 5b, MYP, Restricted
A1: =IF('Page 1, Agreement'!C4=0," ",'Page 1, Agreement'!C4)
A3: H. IMPACT OF PROPOSED AGREEMENT ON SUBSEQUENT YEARS | G3: Section H, Pages 5a through 5c: Impact of Proposed Agreement on Subsequent Years
C5: Restricted General Fund MYP
A6: Bargaining Unit: | C6: =IF('Page 1, Agreement'!C5=0," ",'Page 1, Agreement'!C5)
C7: ='Page 5a, MYP, Unrestricted'!C7 -> 2023-24 | D7: ='Page 5a, MYP, Unrestricted'!D7 -> 2024-25 | E7: ='Page 5a, MYP, Unrestricted'!E7 -> 2025-26
B8: Object Code | C8: Total Revised Budget After Settlement | D8: First Subsequent Year After Settlement | E8: Second Subsequent Year After Settlement
A9: REVENUES
A10: LCFF Revenue | B10: 8010-8099 | C10: ='Page 4b, Impact, Restr G.F.'!F10 -> 0 | D10: 0 | E10: 0
A11: Federal Revenue | B11: 8100-8299 | C11: ='Page 4b, Impact, Restr G.F.'!F11 -> 0 | D11: 0 | E11: 0
A12: Other State Revenue | B12: 8300-8599 | C12: ='Page 4b, Impact, Restr G.F.'!F12 -> 0 | D12: 0 | E12: 0
A13: Other Local Revenue | B13: 8600-8799 | C13: ='Page 4b, Impact, Restr G.F.'!F13 -> 0 | D13: 0 | E13: 0
A14: TOTAL REVENUES | C14: =SUM(C10:C13) -> 0 | D14: =SUM(D10:D13) -> 0 | E14: =SUM(E10:E13) -> 0
A15: EXPENDITURES
A16: Certificated Salaries | B16: 1000-1999 | C16: ='Page 4b, Impact, Restr G.F.'!F16 -> 0 | D16: 0 | E16: 0
A17: Classified Salaries | B17: 2000-2999 | C17: ='Page 4b, Impact, Restr G.F.'!F17 -> 0 | D17: 0 | E17: 0
A18: Employee Benefits | B18: 3000-3999 | C18: ='Page 4b, Impact, Restr G.F.'!F18 -> 0 | D18: 0 | E18: 0
A19: Books and Supplies | B19: 4000-4999 | C19: ='Page 4b, Impact, Restr G.F.'!F19 -> 0 | D19: 0 | E19: 0
A20: Services and Other Operating Expenditures | B20: 5000-5999 | C20: ='Page 4b, Impact, Restr G.F.'!F20 -> 0 | D20: 0 | E20: 0
A21: Capital Outlay | B21: 6000-6999 | C21: ='Page 4b, Impact, Restr G.F.'!F21 -> 0 | D21: 0 | E21: 0
